BEGIN:VCALENDAR
VERSION:2.0
PRODID:-//オヨヨ書林 - ECPv5.1.2//NONSGML v1.0//EN
CALSCALE:GREGORIAN
METHOD:PUBLISH
X-WR-CALNAME:オヨヨ書林
X-ORIGINAL-URL:https://oyoyoshorin.jp
X-WR-CALDESC:オヨヨ書林 のイベント
BEGIN:VTIMEZONE
TZID:Asia/Tokyo
BEGIN:STANDARD
TZOFFSETFROM:+0900
TZOFFSETTO:+0900
TZNAME:JST
DTSTART:20180101T000000
END:STANDARD
END:VTIMEZONE
BEGIN:VEVENT
DTSTART;TZID=Asia/Tokyo:20180518T180000
DTEND;TZID=Asia/Tokyo:20180518T180000
DTSTAMP:20260420T211703
CREATED:20180405T041047Z
LAST-MODIFIED:20180430T225321Z
UID:73117-1526666400-1526666400@oyoyoshorin.jp
SUMMARY:【夜の掌編集・金沢編】 東海林 毅監督短編上映 & 小島ケイタニーラブLIVE
DESCRIPTION:\n東海林 毅（しょうじつよし）監督、出演の星能 豊（ほしのゆたか）来場予定。\nみなさんで、楽しい夜にしましょう！\n\n5月18日(金)\nOPEN 18:00\nSTART 19:00\n前売り料金 3000円\n（メール予約が必要です）\n当日料金 3500円\n高校生まで無料\n\n入場者に今回上映する映画音楽のサントラ（小島ケイタニーラブが手がけました）プレゼント！\n\nDRINK & FOOD（別料金）\nniginigi\nchomsky\n\n予約はメール予約\nオヨヨ書林・せせらぎ通り店まで\noyoyoshorinseseragi@gmail.com\n\n	関連\n
URL:https://oyoyoshorin.jp/event/%e3%80%90-%e5%a4%9c%e3%81%ae%e6%8e%8c%e7%b7%a8%e9%9b%86%e3%83%bb%e9%87%91%e6%b2%a2%e7%b7%a8%e3%80%91-%e6%9d%b1%e6%b5%b7%e6%9e%97-%e6%af%85%e7%9b%a3%e7%9d%a3%e7%9f%ad%e7%b7%a8%e4%b8%8a%e6%98%a0/
LOCATION:オヨヨ書林　せせらぎ通り店\, 石川県金沢市長町1-6-11\, 9200865\, Japan
CATEGORIES:演奏会,イベントのご案内,上映会
ATTACH;FMTTYPE=image/jpeg:https://oyoyoshorin.jp/wp-content/uploads/image1-3.jpg
END:VEVENT
END:VCALENDAR