BEGIN:VCALENDAR
VERSION:2.0
PRODID:-//オヨヨ書林 - ECPv5.1.2//NONSGML v1.0//EN
CALSCALE:GREGORIAN
METHOD:PUBLISH
X-WR-CALNAME:オヨヨ書林
X-ORIGINAL-URL:https://oyoyoshorin.jp
X-WR-CALDESC:オヨヨ書林 のイベント
BEGIN:VTIMEZONE
TZID:Asia/Tokyo
BEGIN:STANDARD
TZOFFSETFROM:+0900
TZOFFSETTO:+0900
TZNAME:JST
DTSTART:20150101T000000
END:STANDARD
END:VTIMEZONE
BEGIN:VEVENT
DTSTART;TZID=Asia/Tokyo:20150919T100000
DTEND;TZID=Asia/Tokyo:20150923T190000
DTSTAMP:20260421T214518
CREATED:20150910T060620Z
LAST-MODIFIED:20150910T082550Z
UID:67665-1442656800-1443034800@oyoyoshorin.jp
SUMMARY:カナザワ映画祭2015 古本市
DESCRIPTION:毎年恒例、全国の映画ファンの集うカナザワ映画祭の開催期間中、劇場前にて古本市を開催します！\n\n映画ポスター、映画パンフ、映画本、DVDなどを特価にて販売いたします。\n\n9月19日（土） 〜 23日（水・祝）　10:00 〜 19:00\n\n	関連\n
URL:https://oyoyoshorin.jp/event/%e3%82%ab%e3%83%8a%e3%82%b6%e3%83%af%e6%98%a0%e7%94%bb%e7%a5%ad2015-%e5%8f%a4%e6%9c%ac%e5%b8%82/
LOCATION:金沢都ホテル 地下2階セミナーホール前\, 金沢市此花町6-10\, 石川県\, 920-0852\, 日本
CATEGORIES:古本市,イベントのご案内,出店・出品します
ATTACH;FMTTYPE=image/png:https://oyoyoshorin.jp/wp-content/uploads/ka1.png
END:VEVENT
END:VCALENDAR