BEGIN:VCALENDAR
VERSION:2.0
PRODID:-//オヨヨ書林 - ECPv5.1.2//NONSGML v1.0//EN
CALSCALE:GREGORIAN
METHOD:PUBLISH
X-WR-CALNAME:オヨヨ書林
X-ORIGINAL-URL:https://oyoyoshorin.jp
X-WR-CALDESC:オヨヨ書林 のイベント
BEGIN:VTIMEZONE
TZID:Asia/Tokyo
BEGIN:STANDARD
TZOFFSETFROM:+0900
TZOFFSETTO:+0900
TZNAME:JST
DTSTART:20150101T000000
END:STANDARD
END:VTIMEZONE
BEGIN:VEVENT
DTSTART;TZID=Asia/Tokyo:20150809T190000
DTEND;TZID=Asia/Tokyo:20150809T210000
DTSTAMP:20260421T231749
CREATED:20150722T105153Z
LAST-MODIFIED:20150722T111809Z
UID:67621-1439146800-1439154000@oyoyoshorin.jp
SUMMARY:ハウイー・リーヴと川手直人：ソロ・ベース＋うた と ソロ・ギター演奏会
DESCRIPTION:ソロ・ベース＋うた　と　ソロ・ギター演奏会\n\n出演：ハウイー・リーヴ（グラスゴー）、川手直人（京都）\n\n8月9日（日）\nオヨヨ書林 せせらぎ通り店\n金沢市長町1-6-11\n電話：076-255-0619\n開場／18:30　開演／19:00\n入場料／1\,200円（高校生まで／500円、小学生まで／無料）\nゲスト出演／I Know I Have No Collar（ブリストル・富山）\n\n\n\n\n\nハウイー・リーヴ（Howie Reeve）\nソロ・アコースティック・ベーシスト＆シンガー。グラスゴー在住。「たっぷりとした独創と茶目っ気…。豊かな表情の旋律と思案によるベース演奏はまた、フラメンコ的装飾、ポスト・パンクのグルーヴ、パーカッシヴさ、カオスの驚くべき暴力的局面によってもたらされている。」(Matt Evans\, The List)\n\nhttps://howiereeve.bandcamp.com/\n\n \n\n\n川手 直人\n作曲とギター演奏。京都在住。休止していたライブに今回、モノトーン（単音）をコンセプトにソロ・エレクトリック・ギターで復帰。近作は娯楽録音作品「デモデモデ　デモデとモデのパラレル・ワールド」（2015年５月／Sweet Dreams Press）。\n\n\n\n \n\nゲスト出演\nアイ・ノウ・アイ・ハヴ・ノー・カラー（ I Know I have No Collar）\n画家として知られるアーロン・セワーズを中心にしたブリストルのナイーヴ・ポップ・グループ。現在アーロンは富山在住で、今回は家族での演奏予定。\n\nhttps://iknowihavenocollar.bandcamp.com/album/a-little-slow-a-little-late\n\n \n\n[contact-form-7 404 "Not Found"]\n\n	関連\n
URL:https://oyoyoshorin.jp/event/%e3%83%8f%e3%82%a6%e3%82%a4%e3%83%bc%e3%83%bb%e3%83%aa%e3%83%bc%e3%83%b4%e3%81%a8%e5%b7%9d%e6%89%8b%e7%9b%b4%e4%ba%ba%ef%bc%9a%e3%82%bd%e3%83%ad%e3%83%bb%e3%83%99%e3%83%bc%e3%82%b9%ef%bc%8b%e3%81%86/
LOCATION:オヨヨ書林　せせらぎ通り店\, 石川県金沢市長町1-6-11\, 9200865\, Japan
CATEGORIES:演奏会,イベントのご案内
ATTACH;FMTTYPE=image/jpeg:https://oyoyoshorin.jp/wp-content/uploads/banner.jpg
END:VEVENT
END:VCALENDAR