BEGIN:VCALENDAR
VERSION:2.0
PRODID:-//オヨヨ書林 - ECPv5.1.2//NONSGML v1.0//EN
CALSCALE:GREGORIAN
METHOD:PUBLISH
X-WR-CALNAME:オヨヨ書林
X-ORIGINAL-URL:https://oyoyoshorin.jp
X-WR-CALDESC:オヨヨ書林 のイベント
BEGIN:VTIMEZONE
TZID:Asia/Tokyo
BEGIN:STANDARD
TZOFFSETFROM:+0900
TZOFFSETTO:+0900
TZNAME:JST
DTSTART:20150101T000000
END:STANDARD
END:VTIMEZONE
BEGIN:VEVENT
DTSTART;TZID=Asia/Tokyo:20151226T100000
DTEND;TZID=Asia/Tokyo:20151230T180000
DTSTAMP:20260420T091408
CREATED:20151208T071350Z
LAST-MODIFIED:20151208T073404Z
UID:68269-1451124000-1451498400@oyoyoshorin.jp
SUMMARY:出店します！ 2015 阪神歳末古書ノ市
DESCRIPTION:夏に引き続き、冬もまた参加させていただきます。\n美術本、趣味本、サブカル本を中心に持って行く予定です。\n今年一年かけて溜め込んだ良書を、お手頃価格にて大放出します。\n\nとなりではお馴染み「中古＆廃盤レコード・CDカウントダウンセール」も同時開催です。\n\n本年の蒐集の総仕上げ、お正月休み用の本とレコードは阪神梅田本店で！\n\n12月26日（土）〜30日（水）\n10：00～20：00 （※ 最終日は18：00閉場）\n\n参加店：\n《大阪》\n池崎書店（音楽・文芸書）\n駒鳥文庫（映画パンフレット）\n古書ゆうらく（古地図・映画パンフレット）\n小町書店（一般古書・絵葉書）\nシアル（一般古書）\n寸心堂書店（外国文学・翻訳本）\n栞書房（一般古書）\nKosho Shop 満（近代文献書）\n\n《神戸》\n清泉堂倉地書店（美術工芸）\nサンコウ書店（一般古書）\nおくだ書店（自然科学）\n古書連書店（人文社会全般）\n\n《京都》\nアブストラクト古書店（美術工芸・古典籍）\n古書ダンデライオン（近代文学・美術）\n\n《金沢》\nオヨヨ書林\n\n	関連\n
URL:https://oyoyoshorin.jp/event/%e5%87%ba%e5%ba%97%e3%81%97%e3%81%be%e3%81%99%ef%bc%81-2015-%e9%98%aa%e7%a5%9e%e6%ad%b3%e6%9c%ab%e5%8f%a4%e6%9b%b8%e3%83%8e%e5%b8%82/
LOCATION:阪神梅田本店 8階催場\, 大阪府大阪市 北区梅田１丁目１３−１３
CATEGORIES:イベントのご案内,出店・出品します
ATTACH;FMTTYPE=image/gif:https://oyoyoshorin.jp/wp-content/uploads/hansin.gif
END:VEVENT
END:VCALENDAR