BEGIN:VCALENDAR
VERSION:2.0
PRODID:-//オヨヨ書林 - ECPv5.1.2//NONSGML v1.0//EN
CALSCALE:GREGORIAN
METHOD:PUBLISH
X-WR-CALNAME:オヨヨ書林
X-ORIGINAL-URL:https://oyoyoshorin.jp
X-WR-CALDESC:オヨヨ書林 のイベント
BEGIN:VTIMEZONE
TZID:Asia/Tokyo
BEGIN:STANDARD
TZOFFSETFROM:+0900
TZOFFSETTO:+0900
TZNAME:JST
DTSTART:20160101T000000
END:STANDARD
END:VTIMEZONE
BEGIN:VEVENT
DTSTART;TZID=Asia/Tokyo:20160311T110000
DTEND;TZID=Asia/Tokyo:20160327T190000
DTSTAMP:20260420T164527
CREATED:20160227T041622Z
LAST-MODIFIED:20160304T090609Z
UID:68984-1457694000-1459105200@oyoyoshorin.jp
SUMMARY:安齋肇の展覧展　およよのよ
DESCRIPTION:\n\n\n安齋肇の展覧展「およよのよ」\n会期：3/11(金)～3/27(日)\n会場：オヨヨ書林 せせらぎ通り店\n\n\n安齋 肇（あんざい はじめ）\nイラストレーター。\n1953年東京都生まれ。LINEスタンプ「ハロルド危機一髪」のキャラクターデザインや、NHK「しあわせニュース」のタイトル画を手がける。\nまた、ユニコーンや奥田民生ツアーパンフレットのアートディレクション、宮藤官九郎原作の絵本「WASIMO」、「WASIMO2」や作品集「work anzai」、ドローイング集「draw anzai」を出版。テレビ朝日系「タモリ倶楽部」空耳アワー、NHK BSプレミアム「笑う洋楽展」などに出演。\nナレーションやバンド活動も行っている。\n\n公式サイト\nhttp://www.office-123.com/harold/index.html\n\n \n\n【イベント】\n 安齋肇と会食会「オヨヨの夜」\n イラストレータ、アートディレクター、ソラミミストとしてご活躍されている安齋肇さんに、普段の仕事につきましてざっくばらんにお話しいただきます。\n 参加者全員で安齋さんと一緒に飲んだり食べたりしゃべったり。アシルワードのお料理やドリンクをいただきながら、「オヨヨの夜」を楽しみましょう！\n\n※ 定員に達したため、募集受付を終了いたしました。\n たくさんのご応募ありがとうございました！\n\n日時：3/11(金)　19:00-21:00\n 会場：オヨヨ書林せせらぎ通り店\n 料金：5000円（料理、1ドリンク付）\n 定員：20名程度 ※ 要予約\n oyoyoshorinseseragi@gmail.comまで、タイトルを「オヨヨの夜」とし、代表者のお名前、人数、ご連絡先をお知らせ下さい。\n\n会場・お問い合せ：オヨヨ書林せせらぎ通り店\n〒 920-0865　石川県金沢市長町1-6-11\ntel 076-255-0619\n営業時間：11:00-19:00（月曜定休）\n主催：インド・ネパール料理レストラン　アシルワード\n〒920-0961 石川県金沢市 香林坊2-12-15 魚半ビル 1F\ntel 076-262-2170\n営業時間：11:30～15:00　18:00～22:00（月曜定休）\n\n	関連\n
URL:https://oyoyoshorin.jp/event/%e5%ae%89%e9%bd%8b%e8%82%87%e3%81%ae%e5%b1%95%e8%a6%a7%e5%b1%95%e3%80%80%e3%81%8a%e3%82%88%e3%82%88%e3%81%ae%e3%82%88/
LOCATION:オヨヨ書林　せせらぎ通り店\, 石川県金沢市長町1-6-11\, 9200865\, Japan
CATEGORIES:トークイベント,イベントのご案内
ATTACH;FMTTYPE=image/gif:https://oyoyoshorin.jp/wp-content/uploads/oyoyonoyo.gif
END:VEVENT
END:VCALENDAR