BEGIN:VCALENDAR
VERSION:2.0
PRODID:-//オヨヨ書林 - ECPv5.1.2//NONSGML v1.0//EN
CALSCALE:GREGORIAN
METHOD:PUBLISH
X-WR-CALNAME:オヨヨ書林
X-ORIGINAL-URL:https://oyoyoshorin.jp
X-WR-CALDESC:オヨヨ書林 のイベント
BEGIN:VTIMEZONE
TZID:Asia/Tokyo
BEGIN:STANDARD
TZOFFSETFROM:+0900
TZOFFSETTO:+0900
TZNAME:JST
DTSTART:20160101T000000
END:STANDARD
END:VTIMEZONE
BEGIN:VEVENT
DTSTART;TZID=Asia/Tokyo:20160319T130000
DTEND;TZID=Asia/Tokyo:20160321T180000
DTSTAMP:20260420T181148
CREATED:20160309T101540Z
LAST-MODIFIED:20160309T101540Z
UID:69004-1458392400-1458583200@oyoyoshorin.jp
SUMMARY:高校生ウィーク2016 春の小さな古本市に出品します（水戸芸術館現代美術ギャラリー）
DESCRIPTION:高校生ウィーク2016\n\nカフェで開催される「小さな古本市」に出店します！\n\n開催日：2016年3月19日（土）～21日（月・祝)\n\n参加店舗：Li:ttle（水戸）、古書 信天翁（日暮里）、 CLARIS BOOKS（下北沢）、chronicle suddenlycafé（古河）オヨヨ書林（金沢）ほか\n\n \n\n	関連\n
URL:https://oyoyoshorin.jp/event/%e9%ab%98%e6%a0%a1%e7%94%9f%e3%82%a6%e3%82%a3%e3%83%bc%e3%82%af2016-%e6%98%a5%e3%81%ae%e5%b0%8f%e3%81%95%e3%81%aa%e5%8f%a4%e6%9c%ac%e5%b8%82%e3%81%ab%e5%87%ba%e5%93%81%e3%81%97%e3%81%be%e3%81%99/
LOCATION:水戸芸術館現代美術ギャラリー\, 茨城県水戸市五軒町１丁目６－８
CATEGORIES:古本市,イベントのご案内,出店・出品します
ATTACH;FMTTYPE=image/jpeg:https://oyoyoshorin.jp/wp-content/uploads/hssw_omote.jpg
END:VEVENT
END:VCALENDAR