BEGIN:VCALENDAR
VERSION:2.0
PRODID:-//オヨヨ書林 - ECPv5.1.2//NONSGML v1.0//EN
CALSCALE:GREGORIAN
METHOD:PUBLISH
X-WR-CALNAME:オヨヨ書林
X-ORIGINAL-URL:https://oyoyoshorin.jp
X-WR-CALDESC:オヨヨ書林 のイベント
BEGIN:VTIMEZONE
TZID:Asia/Tokyo
BEGIN:STANDARD
TZOFFSETFROM:+0900
TZOFFSETTO:+0900
TZNAME:JST
DTSTART:20210101T000000
END:STANDARD
END:VTIMEZONE
BEGIN:VEVENT
DTSTART;TZID=Asia/Tokyo:20211009T100000
DTEND;TZID=Asia/Tokyo:20211009T170000
DTSTAMP:20260420T090504
CREATED:20211006T090620Z
LAST-MODIFIED:20211006T090645Z
UID:235144-1633773600-1633798800@oyoyoshorin.jp
SUMMARY:出店します：市役所の第二本庁舎でゴミのことなど考えるマーケットしてみます
DESCRIPTION:出店します \n「市役所の第二本庁舎でゴミのことなど考えるマーケットしてみます」\nKANAZAWA SDGs フェスタ\nS 市役所の\nD 第二本庁舎で\nG ゴミのことなど\n　考えるマーケット\ns してみます\n2021年10月9日（土）\n10:00-17:00\n金沢市柿木畠1-1 \n\n	関連\n
URL:https://oyoyoshorin.jp/event/235144/
CATEGORIES:出店・出品します,イベントのご案内
ATTACH;FMTTYPE=image/jpeg:https://oyoyoshorin.jp/wp-content/uploads/20210924_2986618.jpg
END:VEVENT
END:VCALENDAR