BEGIN:VCALENDAR
VERSION:2.0
PRODID:-//オヨヨ書林 - ECPv5.1.2//NONSGML v1.0//EN
CALSCALE:GREGORIAN
METHOD:PUBLISH
X-WR-CALNAME:オヨヨ書林
X-ORIGINAL-URL:https://oyoyoshorin.jp
X-WR-CALDESC:オヨヨ書林 のイベント
BEGIN:VTIMEZONE
TZID:Asia/Tokyo
BEGIN:STANDARD
TZOFFSETFROM:+0900
TZOFFSETTO:+0900
TZNAME:JST
DTSTART:20180101T000000
END:STANDARD
END:VTIMEZONE
BEGIN:VEVENT
DTSTART;VALUE=DATE:20180328
DTEND;VALUE=DATE:20180403
DTSTAMP:20260420T091944
CREATED:20180325T080336Z
LAST-MODIFIED:20180325T080336Z
UID:73107-1522195200-1522713599@oyoyoshorin.jp
SUMMARY:出店します：ア・ミュー古本市（富山県南砺市）
DESCRIPTION:北陸の古書店が参加する、恒例の大古本市です！\n均一コーナーも100円からと大充実。\n\n参加店：近八書房、一誠堂能瀬書店、金沢文舗閣、宝の本、古本ブックエンド、レコード・ジャングル、オヨヨ書林\n\n	関連\n
URL:https://oyoyoshorin.jp/event/amyu2017-2-2/
LOCATION:ショッピング　ア・ミュー\, 富山県南砺市寺家新屋敷366
CATEGORIES:古本市,イベントのご案内,出店・出品します
ATTACH;FMTTYPE=image/jpeg:https://oyoyoshorin.jp/wp-content/uploads/2015/04/amyu.jpg
END:VEVENT
END:VCALENDAR