BEGIN:VCALENDAR
VERSION:2.0
PRODID:-//オヨヨ書林 - ECPv5.1.2//NONSGML v1.0//EN
CALSCALE:GREGORIAN
METHOD:PUBLISH
X-WR-CALNAME:オヨヨ書林
X-ORIGINAL-URL:https://oyoyoshorin.jp
X-WR-CALDESC:オヨヨ書林 のイベント
BEGIN:VTIMEZONE
TZID:Asia/Tokyo
BEGIN:STANDARD
TZOFFSETFROM:+0900
TZOFFSETTO:+0900
TZNAME:JST
DTSTART:20210101T000000
END:STANDARD
END:VTIMEZONE
BEGIN:VEVENT
DTSTART;TZID=Asia/Tokyo:20211003T100000
DTEND;TZID=Asia/Tokyo:20211003T160000
DTSTAMP:20260420T091944
CREATED:20210929T101857Z
LAST-MODIFIED:20210929T102420Z
UID:235107-1633255200-1633276800@oyoyoshorin.jp
SUMMARY:出店します：ベイサイド古書市 @ 金沢港
DESCRIPTION:読書の秋の一日、金沢港クルーズターミナルで人生の船出の友となる一冊の本と心安らぐ雑貨を見つけませんか? \nメインテーマは、「港・船・航海」 さあ、 未知なる本の海へ 漕ぎだそう! \n10月3日(日) 10 時~16 時 \n\n金沢港クルーズターミナル(2F)セミナールーム\n金沢市無量寺町リ 65\nTEL:076-225-7030\n駐車場:無料 \n  \n\nSHIP1 本&音楽 絵本・アート・レコード 映画・ポスター・雑誌 小説・文庫\nSHIP2 雑貨&飲食 ジャム・サンド・珈琲 切手・輸入雑貨・地図\nSHIP3 ワークショップ 旅体験コーナー 似顔絵コーナー\n・あうん堂本舗 ・アレフ ・オヨヨ書林シンタテマチ店 ・オヨヨ書林せせらぎ通り店 ・金澤20世紀書房 ・kissako 喫茶去543 ・NYANCAFE-BOOKS ・ビートマニア ・古本 LOGOS ・輸入雑貨ラムズゲート ・夜の校舎 ・流星舎 \n\n新型コロナウィルス感染拡大予防対策 \n・ご来場時は、マスクの着用をお願いいたします。会場に手指消毒液を用意しております。ご協力をお願いいたします。\n・会場では、お客様同士の距離の確保にご協力ください(混雑時は、入場制限をさせていただく場合がございます)。\n・会場に検温計を用意しております。37.5°C以上の発熱が確認された方は入場をお控えください。\n・発熱、咳、下痢、味覚障害等体調に異変がある方はご来場をお控えください。 \n【主催】\nブッククルーズの会\n問い合わせ:あうん堂本舗\n076-251-7335\n\n \n\n	関連\n
URL:https://oyoyoshorin.jp/event/bayside2021/
LOCATION:金沢港クルーズターミナル\, 無量寺町リ65\, 金沢市\, 石川県\, 920-0332\, 日本
CATEGORIES:イベントのご案内,出店・出品します,古本市
ATTACH;FMTTYPE=image/jpeg:https://oyoyoshorin.jp/wp-content/uploads/ベイサイドチラシ／カラー.jpg
END:VEVENT
END:VCALENDAR