BEGIN:VCALENDAR
VERSION:2.0
PRODID:-//オヨヨ書林 - ECPv5.1.2//NONSGML v1.0//EN
CALSCALE:GREGORIAN
METHOD:PUBLISH
X-WR-CALNAME:オヨヨ書林
X-ORIGINAL-URL:https://oyoyoshorin.jp
X-WR-CALDESC:オヨヨ書林 のイベント
BEGIN:VTIMEZONE
TZID:Asia/Tokyo
BEGIN:STANDARD
TZOFFSETFROM:+0900
TZOFFSETTO:+0900
TZNAME:JST
DTSTART:20200101T000000
END:STANDARD
END:VTIMEZONE
BEGIN:VEVENT
DTSTART;TZID=Asia/Tokyo:20200911T110000
DTEND;TZID=Asia/Tokyo:20200911T200000
DTSTAMP:20260420T090514
CREATED:20200903T061417Z
LAST-MODIFIED:20200903T061510Z
UID:191322-1599822000-1599854400@oyoyoshorin.jp
SUMMARY:出店します：BOOK DAY とやま駅 　Vol.2 @ 富山駅南北自由通路
DESCRIPTION:「BOOK DAY とやま駅」毎年恒例となりつつあるBOOK DAY とやまの、密を避けた縮小版・スピンオフ版として、富山の本好き、そして富山を訪れる旅行者や、富山駅を行き交うさまざまな人に向け、地元富山の魅力を本を通して発信してゆく古本市です。8月7日に富山駅にお集まりください！　日時：2020年9月11日（金）11:00 – 20:00会場：富山駅南北自由通路（あいの風とやま鉄道中央改札前）入場：無料共催：富山市、BOOK DAY とやま実行　〈お問い合わせ〉BOOK DAY とやま実行委員会http://bookdaytoyama.net   \n\n	関連\n
URL:https://oyoyoshorin.jp/event/bookday2018-2-2-2/
LOCATION:富山駅\, 富山市\, 富山県
CATEGORIES:古本市,イベントのご案内,出店・出品します
ATTACH;FMTTYPE=image/jpeg:https://oyoyoshorin.jp/wp-content/uploads/107807275_2765814530317446_7324361460414350016_n-2.jpg
END:VEVENT
END:VCALENDAR