BEGIN:VCALENDAR
VERSION:2.0
PRODID:-//オヨヨ書林 - ECPv5.1.2//NONSGML v1.0//EN
CALSCALE:GREGORIAN
METHOD:PUBLISH
X-WR-CALNAME:オヨヨ書林
X-ORIGINAL-URL:https://oyoyoshorin.jp
X-WR-CALDESC:オヨヨ書林 のイベント
BEGIN:VTIMEZONE
TZID:Asia/Tokyo
BEGIN:STANDARD
TZOFFSETFROM:+0900
TZOFFSETTO:+0900
TZNAME:JST
DTSTART:20210101T000000
END:STANDARD
END:VTIMEZONE
BEGIN:VEVENT
DTSTART;VALUE=DATE:20210415
DTEND;VALUE=DATE:20220304
DTSTAMP:20260423T110240
CREATED:20210414T060809Z
LAST-MODIFIED:20210414T061224Z
UID:216268-1618444800-1646351999@oyoyoshorin.jp
SUMMARY:月イチ出店：BOOK DAY とやま駅 @ 富山駅南北自由通路（2021年4月〜2022年3月）
DESCRIPTION:＼！！今年も毎月発車します！！／ \n富山駅南北自由通路にて昨年度8月よりほぼ毎月開催しておりました、スピンオフ古本市『BOOK DAY とやま駅』ですが、今年も引き続き開催させていただくこととなりました！！\n　\n2021年度の開催日程は以下のとおりとなります！\nまずは4月15日（木）に初回を開催しますので、皆さまぜひ富山駅にお立ち寄りくださいね！\n\n一部を除き、基本的に木曜日開催となります。\n当店も毎月出店しています！ \n▼2021年　\n4月15日（木）\n5月20日（木）\n6月3日（木）\n7月1日（木）\n8月7日（土） ※ 土曜開催\n9月9日（木）\n10月7日（木）\n11月17日（水） ※水曜開催\n12月2日（木）\n　\n▼2022年\n1月6日（木）\n2月23日（水祝）※ 祝日開催\n3月3日（木） \n******* \n『BOOK DAY とやま駅』\n時間：11:00 – 19:00\n会場：富山駅南北自由通路（あいの風とやま鉄道中央口改札前）\n共催：富山市、BOOK DAY とやま実行員会\n※入場無料\n　\n≪ご来場のみなさまへ≫\nご来場の際は、マスクの着用、手指消毒にご協力ください。\n恐れ入りますが、発熱や咳などの症状がある場合は、来場をご遠慮ください。\n　 \n\n【お問い合せ先】\nBOOK DAY とやま実行委員会\n富山県滑川市瀬羽町1890-1（古本いるふ内）\n電話:：076-456-7620 （12-18時 / 月・火曜休）\nメール：bookdaytoyama@gmail.com \n\n	関連\n
URL:https://oyoyoshorin.jp/event/bookday2018-2-2-3-3/
LOCATION:富山駅\, 富山市\, 富山県
CATEGORIES:古本市,イベントのご案内,出店・出品します
ATTACH;FMTTYPE=image/jpeg:https://oyoyoshorin.jp/wp-content/uploads/169563296_566987864219428_5430503851222806591_n.jpg
END:VEVENT
END:VCALENDAR