BEGIN:VCALENDAR
VERSION:2.0
PRODID:-//オヨヨ書林 - ECPv5.1.2//NONSGML v1.0//EN
CALSCALE:GREGORIAN
METHOD:PUBLISH
X-WR-CALNAME:オヨヨ書林
X-ORIGINAL-URL:https://oyoyoshorin.jp
X-WR-CALDESC:オヨヨ書林 のイベント
BEGIN:VTIMEZONE
TZID:Asia/Tokyo
BEGIN:STANDARD
TZOFFSETFROM:+0900
TZOFFSETTO:+0900
TZNAME:JST
DTSTART:20190101T000000
END:STANDARD
END:VTIMEZONE
BEGIN:VEVENT
DTSTART;TZID=Asia/Tokyo:20190809T190000
DTEND;TZID=Asia/Tokyo:20190809T203000
DTSTAMP:20260420T141132
CREATED:20190804T230802Z
LAST-MODIFIED:20190804T231044Z
UID:128403-1565377200-1565382600@oyoyoshorin.jp
SUMMARY:【Books under Hotchkissトークイベント】小林百合子（編集者）×野川かさね（写真家）
DESCRIPTION:Books under Hotchkissでの展覧会『山を開くための本展』にあわせて、トークイベントがせせらぎ通り店にて開催されます。\n\n出演：ホシガラス山岳会・小林百合子（編集者） × 野川かさね（写真家）\n日時：2019年8月9日（金）　19：00〜20：30（18：30受付開始）\n参加費：1\,800円（ミニバッジ付き）\n定員：50名\n場所：オヨヨ書林せせらぎ通り店（金沢市長町1-6-11）\nご予約・お問合せ：Books under Hotchkiss\n\n	関連\n
URL:https://oyoyoshorin.jp/event/books-under-hotchkiss-talk-event-yuriko-editor-kasane-nagawa-photographer/
LOCATION:オヨヨ書林　せせらぎ通り店\, 石川県金沢市長町1-6-11\, 9200865\, Japan
CATEGORIES:トークイベント,イベントのご案内
ATTACH;FMTTYPE=image/png:https://oyoyoshorin.jp/wp-content/uploads/main-1024x1853.png
END:VEVENT
END:VCALENDAR