BEGIN:VCALENDAR
VERSION:2.0
PRODID:-//オヨヨ書林 - ECPv5.1.2//NONSGML v1.0//EN
CALSCALE:GREGORIAN
METHOD:PUBLISH
X-WR-CALNAME:オヨヨ書林
X-ORIGINAL-URL:https://oyoyoshorin.jp
X-WR-CALDESC:オヨヨ書林 のイベント
BEGIN:VTIMEZONE
TZID:Asia/Tokyo
BEGIN:STANDARD
TZOFFSETFROM:+0900
TZOFFSETTO:+0900
TZNAME:JST
DTSTART:20180101T000000
END:STANDARD
END:VTIMEZONE
BEGIN:VEVENT
DTSTART;VALUE=DATE:20180824
DTEND;VALUE=DATE:20180924
DTSTAMP:20260420T182333
CREATED:20180809T042031Z
LAST-MODIFIED:20180809T042031Z
UID:82013-1535068800-1537747199@oyoyoshorin.jp
SUMMARY:文庫本千冊市 ＠ オヨヨ書林せせらぎ通り店
DESCRIPTION:日時：2018年8月24日（金）-9月23日（日）\n会場：オヨヨ書林 せせらぎ通り店\n〒920-0865 石川県金沢市長町 1-6-11\nTEL: 076-255-0619\n\n一般の古書店ではなかなか見つからない岩波文庫、ちくま文庫、講談社学術文庫、中公文庫などを中心に、1000冊以上を大放出いたします。\n\n	関連\n
URL:https://oyoyoshorin.jp/event/bunko1808/
LOCATION:オヨヨ書林　せせらぎ通り店\, 石川県金沢市長町1-6-11\, 9200865\, Japan
CATEGORIES:古本市,イベントのご案内
ATTACH;FMTTYPE=image/gif:https://oyoyoshorin.jp/wp-content/uploads/bunko-fair.gif
END:VEVENT
END:VCALENDAR