BEGIN:VCALENDAR
VERSION:2.0
PRODID:-//オヨヨ書林 - ECPv5.1.2//NONSGML v1.0//EN
CALSCALE:GREGORIAN
METHOD:PUBLISH
X-WR-CALNAME:オヨヨ書林
X-ORIGINAL-URL:https://oyoyoshorin.jp
X-WR-CALDESC:オヨヨ書林 のイベント
BEGIN:VTIMEZONE
TZID:Asia/Tokyo
BEGIN:STANDARD
TZOFFSETFROM:+0900
TZOFFSETTO:+0900
TZNAME:JST
DTSTART:20210101T000000
END:STANDARD
END:VTIMEZONE
BEGIN:VEVENT
DTSTART;TZID=Asia/Tokyo:20210403T100000
DTEND;TZID=Asia/Tokyo:20210404T170000
DTSTAMP:20260420T103816
CREATED:20210314T045810Z
LAST-MODIFIED:20210314T052055Z
UID:216096-1617444000-1617555600@oyoyoshorin.jp
SUMMARY:出店します：乙女の金沢 春ららら市 2021 @ 本多の森公園 + しいのき緑地
DESCRIPTION:春ららら市に出店します！\n\n今年の当店の出店ブースは、例年のしいのき緑地ではなく、国立工芸館前の本多の森公園となります。\nというわけで、今回は出店場所の国立工芸館＆石川県立美術館前にあわせて、美術・工芸の展覧会図録フェアを開催します！\nららら市のお客さんはもちろん、工芸館にいらっしゃった方や、ららら市出店作家の皆さんも是非のぞいてみてください！ \n  \n春ららら市 2021\n2021年4月3日（土）・4日（日）\n10:00-17:00\n会場（2箇所）：しいのき緑地　絶景石垣前　オンザ芝生\n本多の森公園　国立工芸館前　レンガ横（当店はこちらの会場に出店します） \n\n石川県のこつぶでピリリな作家＆個人商店、約140店が集結！\n工芸・飲食・体験・音楽・恐竜・動物園他。\n今年で10回目！ \n\n	関連\n
URL:https://oyoyoshorin.jp/event/departing-10-31-11-1-delusions-travel-2/
LOCATION:本多の森公園
CATEGORIES:イベントのご案内,出店・出品します
ATTACH;FMTTYPE=image/jpeg:https://oyoyoshorin.jp/wp-content/uploads/20210310_2888530_t.jpg
END:VEVENT
END:VCALENDAR