BEGIN:VCALENDAR
VERSION:2.0
PRODID:-//オヨヨ書林 - ECPv5.1.2//NONSGML v1.0//EN
CALSCALE:GREGORIAN
METHOD:PUBLISH
X-WR-CALNAME:オヨヨ書林
X-ORIGINAL-URL:https://oyoyoshorin.jp
X-WR-CALDESC:オヨヨ書林 のイベント
BEGIN:VTIMEZONE
TZID:Asia/Tokyo
BEGIN:STANDARD
TZOFFSETFROM:+0900
TZOFFSETTO:+0900
TZNAME:JST
DTSTART:20240101T000000
END:STANDARD
END:VTIMEZONE
BEGIN:VEVENT
DTSTART;VALUE=DATE:20240224
DTEND;VALUE=DATE:20240225
DTSTAMP:20260420T085656
CREATED:20240223T095727Z
LAST-MODIFIED:20240223T095727Z
UID:293640-1708732800-1708819199@oyoyoshorin.jp
SUMMARY:瀬戸内海・しまの柑橘祭り 2024 in 金沢 @ せせらぎ通り店
DESCRIPTION:【柑橘とミモザ販売のお知らせ】\n春という字は三人の日と書きます～♪（石野真子 春ラ！ラ！ラ！1980年）\n今年もこの三人（盤常屋@banjohya の二人とminamo @minamoft さん）の日がやってきました。\n3/11土、12日、2日間 10時から18時まで、柑橘とミモザの販売を行います！\n春がきますね。 \n日時：2023年3月11日(土)、12日(日) 10-18時\n場所：オヨヨ書林せせらぎ通り店（金沢市長町1-6-11 tel:076-255-0619) \n※店舗の通常の営業時間は 13時-19時です。\n書店営業時間前の10-13時の間にお越しいただけますとスムーズにお買い物いただけると思います。 \n※画像が柑橘のラインナップです。ご予約承ります！ \n※おとなりのひらみぱんさんでは柑橘を使ったお菓子やパンが並ぶようです。 \n  \n\n \n\n	関連\n
URL:https://oyoyoshorin.jp/event/fruits-island-banjoh-ya-3-2-2-2-2/
LOCATION:オヨヨ書林　せせらぎ通り店\, 石川県金沢市長町1-6-11\, 9200865\, Japan
CATEGORIES:etc.,イベントのご案内,出店・出品します
ATTACH;FMTTYPE=image/jpeg:https://oyoyoshorin.jp/wp-content/uploads/333963210_872443190710004_6588612610424194785_n.jpg
END:VEVENT
END:VCALENDAR