BEGIN:VCALENDAR
VERSION:2.0
PRODID:-//オヨヨ書林 - ECPv5.1.2//NONSGML v1.0//EN
CALSCALE:GREGORIAN
METHOD:PUBLISH
X-WR-CALNAME:オヨヨ書林
X-ORIGINAL-URL:https://oyoyoshorin.jp
X-WR-CALDESC:オヨヨ書林 のイベント
BEGIN:VTIMEZONE
TZID:Asia/Tokyo
BEGIN:STANDARD
TZOFFSETFROM:+0900
TZOFFSETTO:+0900
TZNAME:JST
DTSTART:20180101T000000
END:STANDARD
END:VTIMEZONE
BEGIN:VEVENT
DTSTART;VALUE=DATE:20180517
DTEND;VALUE=DATE:20180518
DTSTAMP:20260420T090616
CREATED:20180427T022611Z
LAST-MODIFIED:20180427T150613Z
UID:73137-1526515200-1526601599@oyoyoshorin.jp
SUMMARY:春のふるほん市 ＠近江町いちば館広場
DESCRIPTION:石川県下の古本屋が大集合！掘り出し物が見つかる大ワゴンセールです。\n古書マップも配布します！\n\n日時：2018年5月17日（木）　10:00-18:00\n会場：近江町いちば館広場\n\n＜お問い合せ＞\n近八書房　金沢市安江町1-11　tel : 076-231-6148\n\n	関連\n
URL:https://oyoyoshorin.jp/event/furuhonichi2018/
LOCATION:近江町いちば館広場\, 金沢市青草町88番地
CATEGORIES:古本市,イベントのご案内,出店・出品します
ATTACH;FMTTYPE=image/jpeg:https://oyoyoshorin.jp/wp-content/uploads/201805_springbookfair7ok_2_ol.jpg
END:VEVENT
END:VCALENDAR