BEGIN:VCALENDAR
VERSION:2.0
PRODID:-//オヨヨ書林 - ECPv5.1.2//NONSGML v1.0//EN
CALSCALE:GREGORIAN
METHOD:PUBLISH
X-WR-CALNAME:オヨヨ書林
X-ORIGINAL-URL:https://oyoyoshorin.jp
X-WR-CALDESC:オヨヨ書林 のイベント
BEGIN:VTIMEZONE
TZID:Asia/Tokyo
BEGIN:STANDARD
TZOFFSETFROM:+0900
TZOFFSETTO:+0900
TZNAME:JST
DTSTART:20160101T000000
END:STANDARD
END:VTIMEZONE
BEGIN:VEVENT
DTSTART;VALUE=DATE:20160810
DTEND;VALUE=DATE:20160817
DTSTAMP:20260420T134708
CREATED:20160713T060551Z
LAST-MODIFIED:20160722T093242Z
UID:69457-1470787200-1471391999@oyoyoshorin.jp
SUMMARY:阪神夏の古書ノ市 2016
DESCRIPTION:毎年恒例古書即売会！\n今年の夏も個性派古書店が勢揃い！\n\n日時：2016年8月10（水）～16（火）\n場所：大阪阪神百貨店梅田本店\n\n参加古書店：\n書苑よしむら\n古書玉椿\n古書ダンデライオン\n寸心堂書店\n１００３\n徒然舎\nハモニカ古書店\n古書店ぽらん\n本は人生のおやつです！！\nマヤルカ古書店\n一冊堂\nTraveling Bookstore\nオヨヨ書林\n\n	関連\n
URL:https://oyoyoshorin.jp/event/hanshin-kosho2016/
LOCATION:阪神梅田本店 8階催場\, 大阪府大阪市 北区梅田１丁目１３−１３
CATEGORIES:古本市,イベントのご案内,出店・出品します
ATTACH;FMTTYPE=image/gif:https://oyoyoshorin.jp/wp-content/uploads/hanshin2016ss_P01_16.gif
END:VEVENT
END:VCALENDAR