BEGIN:VCALENDAR
VERSION:2.0
PRODID:-//オヨヨ書林 - ECPv5.1.2//NONSGML v1.0//EN
CALSCALE:GREGORIAN
METHOD:PUBLISH
X-WR-CALNAME:オヨヨ書林
X-ORIGINAL-URL:https://oyoyoshorin.jp
X-WR-CALDESC:オヨヨ書林 のイベント
BEGIN:VTIMEZONE
TZID:Asia/Tokyo
BEGIN:STANDARD
TZOFFSETFROM:+0900
TZOFFSETTO:+0900
TZNAME:JST
DTSTART:20190101T000000
END:STANDARD
END:VTIMEZONE
BEGIN:VEVENT
DTSTART;VALUE=DATE:20191225
DTEND;VALUE=DATE:20191229
DTSTAMP:20260420T121651
CREATED:20191211T095315Z
LAST-MODIFIED:20191211T095717Z
UID:146147-1577232000-1577577599@oyoyoshorin.jp
SUMMARY:出店します：古本と中古レコードフェス @ 阪神梅田本店8階催場
DESCRIPTION:古本と中古レコードフェス @ 阪神梅田本店\n阪神歳末古書ノ市\n日時：12月25日（水）→ 28日（土） 10:00-20:00（最終日16時まで）\n会場：阪神梅田本店 8階催場\n\n阪神梅田本店の冬の風物詩となった\n古書＆中古レコードフェスが今年も開催決定！\n古本も中古レコードも今また、その価値が見直されています。\n暮れゆく2019年を惜しみながら、\nかけがえのない1冊、1枚と出会ってください！\n\n\n	関連\n
URL:https://oyoyoshorin.jp/event/hanshin2019-2/
LOCATION:阪神梅田本店 8階催場\, 大阪府大阪市 北区梅田１丁目１３−１３
CATEGORIES:イベントのご案内,出店・出品します,古本市
ATTACH;FMTTYPE=image/jpeg:https://oyoyoshorin.jp/wp-content/uploads/l00chirashi.jpg
END:VEVENT
END:VCALENDAR