BEGIN:VCALENDAR
VERSION:2.0
PRODID:-//オヨヨ書林 - ECPv5.1.2//NONSGML v1.0//EN
CALSCALE:GREGORIAN
METHOD:PUBLISH
X-WR-CALNAME:オヨヨ書林
X-ORIGINAL-URL:https://oyoyoshorin.jp
X-WR-CALDESC:オヨヨ書林 のイベント
BEGIN:VTIMEZONE
TZID:Asia/Tokyo
BEGIN:STANDARD
TZOFFSETFROM:+0900
TZOFFSETTO:+0900
TZNAME:JST
DTSTART:20170101T000000
END:STANDARD
END:VTIMEZONE
BEGIN:VEVENT
DTSTART;VALUE=DATE:20170206
DTEND;VALUE=DATE:20170316
DTSTAMP:20260420T133356
CREATED:20170113T033532Z
LAST-MODIFIED:20170310T024758Z
UID:69890-1486339200-1489622399@oyoyoshorin.jp
SUMMARY:会期延長！絵本だけの古本市 ＠ホホホ座浄土寺店
DESCRIPTION:かつてガケ書房の時に大変好評をいただきました絵本しか並ばない古本市が復活！\n貴重本、掘り出し本、おなじみ本などカワイイかっこいい絵本がたくさん並びます。\n\n期間：2月6日（月）〜3月15日（水）会期延長いたしました。\n会場：ホホホ座浄土寺店\n出品店舗：にわとり文庫　ねこのひたい　オヨヨ書林\n\n	関連\n
URL:https://oyoyoshorin.jp/event/hohoho-ehon-ichi/
LOCATION:ホホホ座浄土寺店\, 京都市左京区浄土寺馬場町71 ハイネストビル\, 606-8412
CATEGORIES:出店・出品します,古本市,イベントのご案内
ATTACH;FMTTYPE=image/jpeg:https://oyoyoshorin.jp/wp-content/uploads/JJ-0377-01.jpg
END:VEVENT
END:VCALENDAR