BEGIN:VCALENDAR
VERSION:2.0
PRODID:-//オヨヨ書林 - ECPv5.1.2//NONSGML v1.0//EN
CALSCALE:GREGORIAN
METHOD:PUBLISH
X-WR-CALNAME:オヨヨ書林
X-ORIGINAL-URL:https://oyoyoshorin.jp
X-WR-CALDESC:オヨヨ書林 のイベント
BEGIN:VTIMEZONE
TZID:Asia/Tokyo
BEGIN:STANDARD
TZOFFSETFROM:+0900
TZOFFSETTO:+0900
TZNAME:JST
DTSTART:20210101T000000
END:STANDARD
END:VTIMEZONE
BEGIN:VEVENT
DTSTART;VALUE=DATE:20210521
DTEND;VALUE=DATE:20210604
DTSTAMP:20260420T091548
CREATED:20210523T061007Z
LAST-MODIFIED:20210523T083719Z
UID:227206-1621555200-1622764799@oyoyoshorin.jp
SUMMARY:出品します：映画『ブックセラーズ』上映記念ミニフェア @ シネモンド
DESCRIPTION:古書店の世界を描いたニューヨークのドキュメンタリー映画『ブックセラーズ』の上映を記念して、シネモンドにて開催中のミニ・ブックフェア “カナザワ・ブックセラーズ”に出品します！\n\n参加店：うつのみや書店、石引パブリック、あうん堂、NYANCAFE-BOOKS、オヨヨ書林 \n  \n \n\n	関連\n
URL:https://oyoyoshorin.jp/event/in-the-movie-bookserers-screenplay-mini-fair-cinemonde/
LOCATION:シネモンド\, 香林坊2-1-1 香林坊東急スクエア 4F\, 金沢市\, 石川県
CATEGORIES:イベントのご案内,出店・出品します
ATTACH;FMTTYPE=image/jpeg:https://oyoyoshorin.jp/wp-content/uploads/E1-vpc_VoAglGkC.jpg
END:VEVENT
END:VCALENDAR