BEGIN:VCALENDAR
VERSION:2.0
PRODID:-//オヨヨ書林 - ECPv5.1.2//NONSGML v1.0//EN
CALSCALE:GREGORIAN
METHOD:PUBLISH
X-WR-CALNAME:オヨヨ書林
X-ORIGINAL-URL:https://oyoyoshorin.jp
X-WR-CALDESC:オヨヨ書林 のイベント
BEGIN:VTIMEZONE
TZID:Asia/Tokyo
BEGIN:STANDARD
TZOFFSETFROM:+0900
TZOFFSETTO:+0900
TZNAME:JST
DTSTART:20160101T000000
END:STANDARD
END:VTIMEZONE
BEGIN:VEVENT
DTSTART;TZID=Asia/Tokyo:20160716T180000
DTEND;TZID=Asia/Tokyo:20160716T200000
DTSTAMP:20260422T052022
CREATED:20160617T111007Z
LAST-MODIFIED:20160708T064957Z
UID:69432-1468692000-1468699200@oyoyoshorin.jp
SUMMARY:＜中止になりました＞大竹昭子「この写真がすごい」 トーク ＆ ワークショップ
DESCRIPTION:7月16日（土）開催予定の大竹昭子さんのワークショップは都合により中止とさせていただきます。\n ご来場を予定されていたお客さま、申し訳ございません。\n\n\n\n日時： 2016年7月16日（土）\n\n開場： 17:30\n\n開演：18:00 ／ 終演：20:00 (予定)\n\n場所：オヨヨ書林せせらぎ通り店\n 〒920-0865 石川県金沢市長町 1-6-11\n 電話： 076-255-0619\n 参加費： 2\,000円（1ドリンク付き）\n 定員：35名\n\n参加お申し込み＆お問い合わせ：\n オヨヨ書林せせらぎ通り店\n 電話：076-255-0619\n メール：  oyoyoshorinseseragi@gmail.com\n\n参加される方は【７月１０日までに】、「すごい」と思う写真をデータで以下までお送りください。参加者が撮ったものでなくても構いません！\n\noyoyoshorinseseragi@gmail.com\n (オヨヨ書林せせらぎ通り店）\n\n裸、葬式、よっぱらいから巨大ダコまで。プロ・アマ、年齢、ジャンル関係なしに「すごい」というだけで選んだ写真に言葉を添えてまとめた異色の写真集。\n話題となった『この写真がすごい』『この写真がすごい2』はいま開いても驚きに満ちています。\nそこで編著者の大竹昭子さんをお呼びして、参加者から事前に送付いただく「すごい」\n写真を一緒に見ながら、新しい視点を発見していくワークショップ形式のトークイベントを行います。\n「写真を見ながらワイワイ話すのは、どうしてこんなに楽しいのか！」\nどんな「すごい」写真が飛び出すか、ぜひお楽しみに、ご参加ください。\n\n大竹昭子（おおたけ・あきこ）\n1950年東京都生まれ。作家。小説、エッセイ、評論などジャンルを横断して執筆し、自ら写真も撮る。現在、トークと朗読の会「カタリココ」を開催し、震災直後から始めた、多くの詩人や作家がことばを持ち寄るイベント「ことばのポトラック」を定期的におこなっている。『この写真がすごい』『この写真がすごい2』（共に朝日出版社）のほか、主な著書に『眼の狩人』（新潮社/ちくま文庫）、『図鑑少年』（小学館/中公文庫）、『彼らが写真を手にした切実さを』（平凡社）、『日和下駄とスニーカー』（洋泉社）、『ニューヨーク1980』（赤々舎）など。 最新刊は『出来事と写真』（畠山直哉との共著、赤々舎）。\n\n	関連\n
URL:https://oyoyoshorin.jp/event/kono-shasin/
LOCATION:オヨヨ書林　せせらぎ通り店\, 石川県金沢市長町1-6-11\, 9200865\, Japan
CATEGORIES:トークイベント,イベントのご案内
ATTACH;FMTTYPE=image/jpeg:https://oyoyoshorin.jp/wp-content/uploads/konoshashin-omote.jpg
END:VEVENT
END:VCALENDAR