BEGIN:VCALENDAR
VERSION:2.0
PRODID:-//オヨヨ書林 - ECPv5.1.2//NONSGML v1.0//EN
CALSCALE:GREGORIAN
METHOD:PUBLISH
X-WR-CALNAME:オヨヨ書林
X-ORIGINAL-URL:https://oyoyoshorin.jp
X-WR-CALDESC:オヨヨ書林 のイベント
BEGIN:VTIMEZONE
TZID:Asia/Tokyo
BEGIN:STANDARD
TZOFFSETFROM:+0900
TZOFFSETTO:+0900
TZNAME:JST
DTSTART:20190101T000000
END:STANDARD
END:VTIMEZONE
BEGIN:VEVENT
DTSTART;VALUE=DATE:20190826
DTEND;VALUE=DATE:20190902
DTSTAMP:20260420T141133
CREATED:20190824T000232Z
LAST-MODIFIED:20190824T000232Z
UID:128450-1566777600-1567382399@oyoyoshorin.jp
SUMMARY:出店します：香林坊東急スクエア・レコード＆CD市
DESCRIPTION:音楽書やアートブックを出品いたします！\n\n日程：8月26日(月)～9月1日(日)\n時間：10時 ～ 20時\n※初日は12時開場、最終日は18時閉場\n会場：B1F 特設会場\n\n参加店\n▽レコード・ジャングル\n▽エスタシオ・レコーズ\n▽オヨヨ書林\n▽高橋麻帆書店\n▽魔法陣\n▽レコード・ビーチパーティ\n\n【お問合わせ】\nレコード・ビーチパーティ\nTEL:076-261-6516\nhttp://beachparty.ocnk.net/\n\n	関連\n
URL:https://oyoyoshorin.jp/event/korinbo2018-2-2-2/
LOCATION:香林坊東急スクエア\, 石川県金沢市香林坊２－１－１
CATEGORIES:古本市,イベントのご案内,出店・出品します
ATTACH;FMTTYPE=image/jpeg:https://oyoyoshorin.jp/wp-content/uploads/cname_20190730202632.jpg
END:VEVENT
END:VCALENDAR