BEGIN:VCALENDAR
VERSION:2.0
PRODID:-//オヨヨ書林 - ECPv5.1.2//NONSGML v1.0//EN
CALSCALE:GREGORIAN
METHOD:PUBLISH
X-WR-CALNAME:オヨヨ書林
X-ORIGINAL-URL:https://oyoyoshorin.jp
X-WR-CALDESC:オヨヨ書林 のイベント
BEGIN:VTIMEZONE
TZID:Asia/Tokyo
BEGIN:STANDARD
TZOFFSETFROM:+0900
TZOFFSETTO:+0900
TZNAME:JST
DTSTART:20180101T000000
END:STANDARD
END:VTIMEZONE
BEGIN:VEVENT
DTSTART;VALUE=DATE:20180521
DTEND;VALUE=DATE:20180528
DTSTAMP:20260420T200505
CREATED:20180427T024051Z
LAST-MODIFIED:20180428T022355Z
UID:73140-1526860800-1527465599@oyoyoshorin.jp
SUMMARY:出店します：2018 香林坊東急スクエア・レコード＆CD市
DESCRIPTION:日時：2018年5月21日（月）〜27日（日）　10:00〜20:00（初日は12:00開場／最終日18:00閉場）\n会場：香林坊東急スクエア（旧109）B1F 特設会場\n\n＜参加店＞\nレコード・ジャングル\nエスタシオ・レコーズ\nレコード・ビーチパーティ\nオヨヨ書林\n\n＜お問い合せ＞\nレコード・ビーチパーティ　TEL : 076-261-6516\nhttp://beachparty.ocnk.net/\n\n	関連\n
URL:https://oyoyoshorin.jp/event/korinbo2018/
LOCATION:香林坊東急スクエア\, 石川県金沢市香林坊２－１－１
CATEGORIES:古本市,イベントのご案内,出店・出品します
ATTACH;FMTTYPE=image/jpeg:https://oyoyoshorin.jp/wp-content/uploads/korinbo.jpg
END:VEVENT
END:VCALENDAR