BEGIN:VCALENDAR
VERSION:2.0
PRODID:-//オヨヨ書林 - ECPv5.1.2//NONSGML v1.0//EN
CALSCALE:GREGORIAN
METHOD:PUBLISH
X-WR-CALNAME:オヨヨ書林
X-ORIGINAL-URL:https://oyoyoshorin.jp
X-WR-CALDESC:オヨヨ書林 のイベント
BEGIN:VTIMEZONE
TZID:Asia/Tokyo
BEGIN:STANDARD
TZOFFSETFROM:+0900
TZOFFSETTO:+0900
TZNAME:JST
DTSTART:20170101T000000
END:STANDARD
END:VTIMEZONE
BEGIN:VEVENT
DTSTART;VALUE=DATE:20170118
DTEND;VALUE=DATE:20170124
DTSTAMP:20260420T120218
CREATED:20161202T094632Z
LAST-MODIFIED:20161202T102653Z
UID:69735-1484697600-1485215999@oyoyoshorin.jp
SUMMARY:第33回 銀座 古書の市に出店します！
DESCRIPTION:恒例となりました、美術書画・書籍コレクションの展示即売会、第32回 銀座 古書の市に今年も参加します。\n\n2017年1月18日（水）〜23日（月）\n松屋銀座8階イベントスクエア\n\n	関連\n
URL:https://oyoyoshorin.jp/event/matsuya33/
LOCATION:松屋銀座\, 東京都中央区銀座３−６−１
CATEGORIES:古本市,イベントのご案内,出店・出品します
ATTACH;FMTTYPE=image/jpeg:https://oyoyoshorin.jp/wp-content/uploads/matsuya.jpg
END:VEVENT
END:VCALENDAR