BEGIN:VCALENDAR
VERSION:2.0
PRODID:-//オヨヨ書林 - ECPv5.1.2//NONSGML v1.0//EN
CALSCALE:GREGORIAN
METHOD:PUBLISH
X-WR-CALNAME:オヨヨ書林
X-ORIGINAL-URL:https://oyoyoshorin.jp
X-WR-CALDESC:オヨヨ書林 のイベント
BEGIN:VTIMEZONE
TZID:Asia/Tokyo
BEGIN:STANDARD
TZOFFSETFROM:+0900
TZOFFSETTO:+0900
TZNAME:JST
DTSTART:20160101T000000
END:STANDARD
END:VTIMEZONE
BEGIN:VEVENT
DTSTART;VALUE=DATE:20160616
DTEND;VALUE=DATE:20160621
DTSTAMP:20260422T034610
CREATED:20160602T031320Z
LAST-MODIFIED:20160602T041011Z
UID:69427-1466035200-1466467199@oyoyoshorin.jp
SUMMARY:長岡米百俵古書市2016に参加します！
DESCRIPTION:とき：2016年6月16日（木）〜20日（月） 10時から17時30分（最終日は15時まで）\nところ：カーネーションプラザ（旧長岡大和1階）\n主催：新潟県古書籍商組合\n参加店：羽陽書房、有楽堂、コスモス書房、サン・ブックス、成匠堂書店、みやま書店、遊書房、一誠堂能瀬書店（目録のみ）、越中書林（目録のみ）、耕文堂書店（目録のみ）、オヨヨ書林\n\n長岡米百俵古本市に参加します。\n新潟のみなさま、よろしくお願いします。\n\n	関連\n
URL:https://oyoyoshorin.jp/event/nagaoka2016/
LOCATION:カーネーションプラザ（旧大和）\, 2-3-1\, 大手通\, 長岡市\, 940-0062\, 日本
CATEGORIES:イベントのご案内,出店・出品します
ATTACH;FMTTYPE=image/jpeg:https://oyoyoshorin.jp/wp-content/uploads/8abd0c8377ecc0c44a28aa0360468f21-1.jpeg
END:VEVENT
END:VCALENDAR