BEGIN:VCALENDAR
VERSION:2.0
PRODID:-//オヨヨ書林 - ECPv5.1.2//NONSGML v1.0//EN
CALSCALE:GREGORIAN
METHOD:PUBLISH
X-WR-CALNAME:オヨヨ書林
X-ORIGINAL-URL:https://oyoyoshorin.jp
X-WR-CALDESC:オヨヨ書林 のイベント
BEGIN:VTIMEZONE
TZID:Asia/Tokyo
BEGIN:STANDARD
TZOFFSETFROM:+0900
TZOFFSETTO:+0900
TZNAME:JST
DTSTART:20180101T000000
END:STANDARD
END:VTIMEZONE
BEGIN:VEVENT
DTSTART;VALUE=DATE:20181117
DTEND;VALUE=DATE:20181118
DTSTAMP:20260420T090557
CREATED:20180824T051049Z
LAST-MODIFIED:20181013T152816Z
UID:84120-1542412800-1542499199@oyoyoshorin.jp
SUMMARY:振替公演決定！中山うり 『カルデラ』リリースツアー@オヨヨ書林・せせらぎ通り店
DESCRIPTION:台風のため延期となりました金沢公演の振替が決まりました！\nご予約受付中です。\n\n\nみなさまお待ちかね、うりさんの金沢ライブです！\n\n【日時】2018年 11月17日（土） 開場18:30 ／ 開演19:00\n【会場】 オヨヨ書林せせらぎ通り店　(石川県金沢市長町1-6-11)\n【料金】 前売り 3\,000円 ／ 当日 3\,500円（ドリンク別）\n【メンバー】 福澤和也（g）、小林創（p）、南勇介（d）\n【ご予約・お問い合わせ】\nオヨヨ書林 せせらぎ通り店\nTEL/FAX : 076-255-0619\nmail : oyoyoshorinseseragi@gmail.com\n\nメールでご予約の方は以下の内容を送信してください。\n1 . 件名： 中山うりライブ予約\n2. お名前( フルネームカタカナでご記入ください。)\n3. お電話番号\n4 . ご予約人数\nご予約申込みメール受信後、数日以内に\n受付確認のメールをお送りいたします。\n数日たっても届かない場合はお問い合わせ下さい。\n中山うり\n1981年 1月9日 埼玉生まれ。シンガーソングライター。アコーディオンやトランペット、ギターなどを演奏。\n\n幼少期に父親の影響でジャズやラテン音楽、歌謡曲を耳にして育つ。また、小学校から高校までブラスバンドや吹奏楽でトランペットを担当。シンガーソングライターとしては2000年ステージデビュー、後にs-kenプロデュースのもと、2007年〜2011年の間にアルバム6枚（EPを含む）、シングル2枚、ライブDVD 1枚をリリース。\n2011年、自身作詞・曲の「回転木馬に僕と猫」はNHK「みんなのうた」でオンエアされた。\n\n2012年からセルフプロデュースでアルバム『ホロホロ』、2014年には『鰻』を全国リリース。\n2015年4月から新旧曲を織り交ぜた初のギター弾き語りアルバム『ぼっち』をライブ会場限定販売。（現在HPからも直接販売中）\n2016年8月、9thアルバム『マホロバ』を全国リリース。\n\n\n\n\n\n	関連\n
URL:https://oyoyoshorin.jp/event/nakayamauri2018/
LOCATION:オヨヨ書林　せせらぎ通り店\, 石川県金沢市長町1-6-11\, 9200865\, Japan
CATEGORIES:演奏会,イベントのご案内
ATTACH;FMTTYPE=image/jpeg:https://oyoyoshorin.jp/wp-content/uploads/6a5eaf1dc0050d2b1954258c7338569b.jpg
END:VEVENT
END:VCALENDAR