BEGIN:VCALENDAR
VERSION:2.0
PRODID:-//オヨヨ書林 - ECPv5.1.2//NONSGML v1.0//EN
CALSCALE:GREGORIAN
METHOD:PUBLISH
X-WR-CALNAME:オヨヨ書林
X-ORIGINAL-URL:https://oyoyoshorin.jp
X-WR-CALDESC:オヨヨ書林 のイベント
BEGIN:VTIMEZONE
TZID:Asia/Tokyo
BEGIN:STANDARD
TZOFFSETFROM:+0900
TZOFFSETTO:+0900
TZNAME:JST
DTSTART:20160101T000000
END:STANDARD
END:VTIMEZONE
BEGIN:VEVENT
DTSTART;VALUE=DATE:20161231
DTEND;VALUE=DATE:20170103
DTSTAMP:20260420T101031
CREATED:20161209T060021Z
LAST-MODIFIED:20161231T054125Z
UID:69744-1483142400-1483401599@oyoyoshorin.jp
SUMMARY:年末年始の営業のお知らせ
DESCRIPTION: \n\n年末年始は下記の通り営業いたします。\n\nせせらぎ通り店\n12月30日（金）まで営業\n12月31日（土）〜1月2日（月）までお休み\n1月3日（火）より営業\n1月16日（月）〜2月3日（金）まで冬休みをいただきます。\n\n新竪町店\n12月30日（金）まで営業\n12月31日（土）〜1月1日（日）までお休み\n1月2日（月）より営業\n\n本年も大変お世話になりました。よい年をお迎えくださいませ。\n\n\n	関連\n
URL:https://oyoyoshorin.jp/event/newyear-holiday/
CATEGORIES:営業のお知らせ
END:VEVENT
END:VCALENDAR