BEGIN:VCALENDAR
VERSION:2.0
PRODID:-//オヨヨ書林 - ECPv5.1.2//NONSGML v1.0//EN
CALSCALE:GREGORIAN
METHOD:PUBLISH
X-WR-CALNAME:オヨヨ書林
X-ORIGINAL-URL:https://oyoyoshorin.jp
X-WR-CALDESC:オヨヨ書林 のイベント
BEGIN:VTIMEZONE
TZID:Asia/Tokyo
BEGIN:STANDARD
TZOFFSETFROM:+0900
TZOFFSETTO:+0900
TZNAME:JST
DTSTART:20170101T000000
END:STANDARD
END:VTIMEZONE
BEGIN:VEVENT
DTSTART;VALUE=DATE:20170116
DTEND;VALUE=DATE:20170204
DTSTAMP:20260420T103616
CREATED:20170120T035323Z
LAST-MODIFIED:20170120T035354Z
UID:69908-1484524800-1486166399@oyoyoshorin.jp
SUMMARY:せせらぎ通り店冬休みのお知らせ
DESCRIPTION:せせらぎ通り店は1月16日（月）〜2月3日（金）まで冬休みをいただきます。\nお休み中はご迷惑をおかけいたしますが、どうぞよろしくお願いいたします。\n\nなお、お休みにともない、フリーダイヤル（0120-618-044)からのお電話も受信できません。\nお急ぎの場合は、076-261-8339（新竪町店）までご連絡くださいますよう、よろしくお願いいたします。\n\n	関連\n
URL:https://oyoyoshorin.jp/event/seseragi-holiday/
CATEGORIES:営業のお知らせ
END:VEVENT
END:VCALENDAR