BEGIN:VCALENDAR
VERSION:2.0
PRODID:-//オヨヨ書林 - ECPv5.1.2//NONSGML v1.0//EN
CALSCALE:GREGORIAN
METHOD:PUBLISH
X-WR-CALNAME:オヨヨ書林
X-ORIGINAL-URL:https://oyoyoshorin.jp
X-WR-CALDESC:オヨヨ書林 のイベント
BEGIN:VTIMEZONE
TZID:Asia/Tokyo
BEGIN:STANDARD
TZOFFSETFROM:+0900
TZOFFSETTO:+0900
TZNAME:JST
DTSTART:20190101T000000
END:STANDARD
END:VTIMEZONE
BEGIN:VEVENT
DTSTART;VALUE=DATE:20190126
DTEND;VALUE=DATE:20190221
DTSTAMP:20260420T150305
CREATED:20190110T020741Z
LAST-MODIFIED:20190110T020741Z
UID:112680-1548460800-1550707199@oyoyoshorin.jp
SUMMARY:出店します：うつのみや書店 金沢香林坊店 古書市
DESCRIPTION:恒例「香林坊古書市」を開催いたします。\n今回は郷土の本、郷土史料を特集いたします。\n入手困難な絶版本、貴重な歴史史料、豪華な美術画集など、この機会にぜひお求めください！\n\n会期：2019年1月26日（土）〜2月20日（水）\n会場：うつのみや書店 金沢香林坊店\n金沢市香林坊 2-1-1\n香林坊東急スクエア B1F\n営業時間 10:00 ~ 20:00\n定休日なし\nTEL : 076-234-8111\n\n	関連\n
URL:https://oyoyoshorin.jp/event/utsunomiya1901/
LOCATION:うつのみや書店 金沢香林坊店\, 香林坊 2-1-1 香林坊東急スクエア B1F\, 金沢市\, 石川県\, Japan
CATEGORIES:古本市,イベントのご案内,出店・出品します
ATTACH;FMTTYPE=image/gif:https://oyoyoshorin.jp/wp-content/uploads/9d519765cfbcab2468e4aa798d4fe80d.gif
END:VEVENT
END:VCALENDAR