BEGIN:VCALENDAR
VERSION:2.0
PRODID:-//オヨヨ書林 - ECPv5.1.2//NONSGML v1.0//EN
CALSCALE:GREGORIAN
METHOD:PUBLISH
X-WR-CALNAME:オヨヨ書林
X-ORIGINAL-URL:https://oyoyoshorin.jp
X-WR-CALDESC:オヨヨ書林 のイベント
BEGIN:VTIMEZONE
TZID:Asia/Tokyo
BEGIN:STANDARD
TZOFFSETFROM:+0900
TZOFFSETTO:+0900
TZNAME:JST
DTSTART:20190101T000000
END:STANDARD
END:VTIMEZONE
BEGIN:VEVENT
DTSTART;VALUE=DATE:20190911
DTEND;VALUE=DATE:20190930
DTSTAMP:20260420T141451
CREATED:20190903T092147Z
LAST-MODIFIED:20190903T092147Z
UID:128469-1568160000-1569801599@oyoyoshorin.jp
SUMMARY:出店します：うつのみや書店 金沢香林坊店・大古書市
DESCRIPTION:小説、趣味・料理などの実用書、 郷土の本、懐かしい雑誌、美術書 …\n\n入手困難な絶版本や、貴重な郷土史料、 豪華な画集など、多数出品します。\nこの機会に是非お求め下さい!\n\n会期：2019年9月11日（水）〜9月29日（日）\n会場：うつのみや書店 金沢香林坊店\n金沢市香林坊 2-1-1\n香林坊東急スクエア B1F\n営業時間 10:00 ~ 20:00\n定休日なし\nTEL : 076-234-8111\n\n	関連\n
URL:https://oyoyoshorin.jp/event/utsunomiya1909/
LOCATION:うつのみや書店 金沢香林坊店\, 香林坊 2-1-1 香林坊東急スクエア B1F\, 金沢市\, 石川県\, Japan
CATEGORIES:イベントのご案内,出店・出品します,古本市
END:VEVENT
END:VCALENDAR