BEGIN:VCALENDAR
VERSION:2.0
PRODID:-//オヨヨ書林 - ECPv5.1.2//NONSGML v1.0//EN
CALSCALE:GREGORIAN
METHOD:PUBLISH
X-WR-CALNAME:オヨヨ書林
X-ORIGINAL-URL:https://oyoyoshorin.jp
X-WR-CALDESC:オヨヨ書林 のイベント
BEGIN:VTIMEZONE
TZID:Asia/Tokyo
BEGIN:STANDARD
TZOFFSETFROM:+0900
TZOFFSETTO:+0900
TZNAME:JST
DTSTART:20200101T000000
END:STANDARD
END:VTIMEZONE
BEGIN:VEVENT
DTSTART;VALUE=DATE:20201023
DTEND;VALUE=DATE:20201026
DTSTAMP:20260424T092226
CREATED:20201014T080921Z
LAST-MODIFIED:20201014T080921Z
UID:191501-1603411200-1603670399@oyoyoshorin.jp
SUMMARY:出店します：いしかわブックフェス2020 @ 金沢駅もてなしドーム
DESCRIPTION:金沢駅もてなしドーム地下広場に、15軒の古書店と4軒の中古レコード店が大集合！広場いっぱいにお買い得＆レアな古本＆中古レコード・CDがお目見えです。石川の古本屋 石川県古書籍商組合では10月23日(金)〜25日(日)の3日間、金沢駅東口もてなしドーム地下広場にて以下の通り「いしかわブックフェス2020 古本＆レコード・CD市」を開催致します。金沢駅でのイベントになりますので、どうぞお気軽にお立ち寄り下さい。本好き、レコード・CD愛好家の皆様のご来場をお待ち申し上げております。 ■開催場所金沢駅東口・もてなしドーム地下広場 ■開催日時10月23日(金) 16:00〜20:0010月24日(土) 8:00〜20:0010月25日(日) 8:00〜17:00 ■出店者あうん堂本舗　一誠堂能瀬書店オヨヨ書林　金澤20世紀書房金沢文圃閣　加能屋書店KIDUKI BOOKS　古書 Duckbill高橋麻帆書店　宝の本　近八書房ビートマニア　古本 LOGOS文学堂書店　流星舎everyday record　魔方陣レコード・ジャングルレコード・ビーチパーティ ■同時開催金沢一箱古本市 10月25日(日)10時〜16時 ■新型コロナウィルス感染拡大予防対策・ご来場時は、マスクの着用をお願い致します。会場に手指消毒液を用意しております。ご協力をお願い致します。・会場には検温計を用意しております。37.5℃以上の発熱が確認された方は入場をお控え下さい。・発熱、咳、下痢、味覚障害等、体調に異変がある方はご来場をお控え下さい。・会場では、お客様同士の距離の確保にご協力下さい。(混雑時は、入場制限をさせて頂く場合がございます)。 ■主催石川県古書籍商組合 TEL:076-231-6148 ■後援北國新聞社　エフエム石川 \n\n	関連\n
URL:https://oyoyoshorin.jp/event/utsunomiya2002-2-2/
LOCATION:金沢駅 もてなしドーム地下広場\, 金沢市此花町6番10号 金沢ビル1F\, 金沢市\, 石川県\, Japan
CATEGORIES:古本市,イベントのご案内,出店・出品します
ATTACH;FMTTYPE=image/jpeg:https://oyoyoshorin.jp/wp-content/uploads/ishikawa_book_2020_poster.jpg
END:VEVENT
END:VCALENDAR