BEGIN:VCALENDAR
VERSION:2.0
PRODID:-//オヨヨ書林 - ECPv5.1.2//NONSGML v1.0//EN
CALSCALE:GREGORIAN
METHOD:PUBLISH
X-WR-CALNAME:オヨヨ書林
X-ORIGINAL-URL:https://oyoyoshorin.jp
X-WR-CALDESC:オヨヨ書林 のイベント
BEGIN:VTIMEZONE
TZID:Asia/Tokyo
BEGIN:STANDARD
TZOFFSETFROM:+0900
TZOFFSETTO:+0900
TZNAME:JST
DTSTART:20200101T000000
END:STANDARD
END:VTIMEZONE
BEGIN:VEVENT
DTSTART;VALUE=DATE:20200208
DTEND;VALUE=DATE:20200309
DTSTAMP:20260420T122107
CREATED:20200115T022810Z
LAST-MODIFIED:20200220T110254Z
UID:147139-1581120000-1583711999@oyoyoshorin.jp
SUMMARY:出店します：うつのみや書店 金沢香林坊店 古書市 @ 香林坊東急スクエア
DESCRIPTION:恒例「香林坊古書市」を開催いたします。\n小説、趣味・料理などの実用書、郷土の本、懐かしい雑誌、美術書…\n入手困難な絶版本や、貴重な郷土史料、豪華な画集など、多数出品します。\nこの機会に是非お求め下さい！\n\n会期：2020年2月8日（土）〜3月1日（日）　※ 3月8日（日）まで延長になりました\n会場：うつのみや書店 金沢香林坊店\n金沢市香林坊 2-1-1\n香林坊東急スクエア B1F\n営業時間 10:00 ~ 20:00\n定休日なし\nTEL : 076-234-8111\n\n	関連\n
URL:https://oyoyoshorin.jp/event/utsunomiya2002/
LOCATION:うつのみや書店 金沢香林坊店\, 香林坊 2-1-1 香林坊東急スクエア B1F\, 金沢市\, 石川県\, Japan
CATEGORIES:イベントのご案内,出店・出品します,古本市
ATTACH;FMTTYPE=image/jpeg:https://oyoyoshorin.jp/wp-content/uploads/utsunomiya.jpg
END:VEVENT
END:VCALENDAR